BEGIN:VCALENDAR
VERSION:2.0
PRODID:-//Vermont Granite Museum - ECPv4.6.14.1//NONSGML v1.0//EN
CALSCALE:GREGORIAN
METHOD:PUBLISH
X-WR-CALNAME:Vermont Granite Museum
X-ORIGINAL-URL:https://www.vtgranitemuseum.org
X-WR-CALDESC:Events for Vermont Granite Museum
BEGIN:VEVENT
DTSTART;TZID=UTC+0:20170805T180000
DTEND;TZID=UTC+0:20170805T180000
DTSTAMP:20260423T021658
CREATED:20170312T065337Z
LAST-MODIFIED:20170312T160348Z
UID:23871-1501956000-1501956000@www.vtgranitemuseum.org
SUMMARY:Class Reunion Spaulding HS 1977
DESCRIPTION:
URL:https://www.vtgranitemuseum.org/event/class-reunion-spaulding-hs-1977/
LOCATION:7 Jones Brothers Way\, Barre\, VT\,  05641\, United States
CATEGORIES:Rental-Private Event
END:VEVENT
END:VCALENDAR