BEGIN:VCALENDAR
VERSION:2.0
PRODID:-//Vermont Granite Museum - ECPv4.6.14.1//NONSGML v1.0//EN
CALSCALE:GREGORIAN
METHOD:PUBLISH
X-WR-CALNAME:Vermont Granite Museum
X-ORIGINAL-URL:https://www.vtgranitemuseum.org
X-WR-CALDESC:Events for Vermont Granite Museum
BEGIN:VEVENT
DTSTART;TZID=UTC+0:20170624T170000
DTEND;TZID=UTC+0:20170624T235500
DTSTAMP:20260423T001109
CREATED:20160624T131835Z
LAST-MODIFIED:20170312T160606Z
UID:23760-1498323600-1498348500@www.vtgranitemuseum.org
SUMMARY:Concert and RockFire Firewalk at Millstone
DESCRIPTION:The Vermont Granite Museum will be hosting at Millstone Hill\, a concert and RockFire Firewalk. Parking at Millstone Hill is available at 59 Little John Road in Websterville (Barre Town)\, VT. The concert features Bow Thayer and his band at 7pm. The Firewalk is happening from 9pm until midnight which includes 20 giant bonfires\, 6 fire-lit stages with live performers\, and over 1\,000 luminaries and a sky lantern launch finale to conclude the event. Local food vendors will be serving as well. \n($25/adults and $15/ages 10-17) \nDon’t miss an incredible weekend celebrating the history of Barre! \nFor more information: \nwww.rockfirevt.com \nhttps://www.facebook.com/ROCKFIREVT/ \nhttps://twitter.com/rockfirevt \n802-479-1000 \n  \n
URL:https://www.vtgranitemuseum.org/event/concert-and-rockfire-firewalk-at-millstone/
LOCATION:7 Jones Brothers Way\, Barre\, VT\,  05641\, United States
CATEGORIES:VGM events
END:VEVENT
END:VCALENDAR