BEGIN:VCALENDAR
VERSION:2.0
PRODID:-//Vermont Granite Museum - ECPv4.6.14.1//NONSGML v1.0//EN
CALSCALE:GREGORIAN
METHOD:PUBLISH
X-WR-CALNAME:Vermont Granite Museum
X-ORIGINAL-URL:https://www.vtgranitemuseum.org
X-WR-CALDESC:Events for Vermont Granite Museum
BEGIN:VEVENT
DTSTART;TZID=UTC+0:20170803T130000
DTEND;TZID=UTC+0:20170803T170000
DTSTAMP:20260423T001102
CREATED:20170312T064936Z
LAST-MODIFIED:20170312T160539Z
UID:23865-1501765200-1501779600@www.vtgranitemuseum.org
SUMMARY:Fresh Tracks Capital Road Pitch
DESCRIPTION:
URL:https://www.vtgranitemuseum.org/event/fresh-tracks-capital-road-pitch/
CATEGORIES:Rental-Private Event
END:VEVENT
END:VCALENDAR