BEGIN:VCALENDAR
VERSION:2.0
PRODID:-//Vermont Granite Museum - ECPv4.6.14.1//NONSGML v1.0//EN
CALSCALE:GREGORIAN
METHOD:PUBLISH
X-WR-CALNAME:Vermont Granite Museum
X-ORIGINAL-URL:https://www.vtgranitemuseum.org
X-WR-CALDESC:Events for Vermont Granite Museum
BEGIN:VEVENT
DTSTART;TZID=UTC+0:20230727T180000
DTEND;TZID=UTC+0:20230727T190000
DTSTAMP:20260422T114705
CREATED:20230711T011324Z
LAST-MODIFIED:20230711T011324Z
UID:24360-1690480800-1690484400@www.vtgranitemuseum.org
SUMMARY:Granite Lecture and Film Series Presents Three Vermont Granite Stories
DESCRIPTION:Dedicated in 1975\, the Libby Dam bas-relief was manufactured by the Rock of Ages Corporation\, and the first film in this series follows the granite for this monument from quarry to installation in Montana. This film will be followed by Training for Tomorrow\, a production featuring Tom Riley of the BGA visiting and interviewing students at the Stone Trades School at Spaulding High School. Finally\, see The Vermont Granite Story\, a film presenting granite from formation to quarrying and manufacturing. \n
URL:https://www.vtgranitemuseum.org/event/granite-lecture-and-film-series-presents-three-vermont-granite-stories/
LOCATION:7 Jones Brothers Way\, Barre\, VT\,  05641\, United States
ORGANIZER;CN="Vermont%20Granite%20Museum":MAILTO:info@vtgranitemuseum.org
END:VEVENT
END:VCALENDAR