BEGIN:VCALENDAR
VERSION:2.0
PRODID:-//Vermont Granite Museum - ECPv4.6.14.1//NONSGML v1.0//EN
CALSCALE:GREGORIAN
METHOD:PUBLISH
X-WR-CALNAME:Vermont Granite Museum
X-ORIGINAL-URL:https://www.vtgranitemuseum.org
X-WR-CALDESC:Events for Vermont Granite Museum
BEGIN:VEVENT
DTSTART;TZID=UTC+0:20171028T100000
DTEND;TZID=UTC+0:20171028T160000
DTSTAMP:20260423T001409
CREATED:20170311T212410Z
LAST-MODIFIED:20170312T160057Z
UID:23826-1509184800-1509206400@www.vtgranitemuseum.org
SUMMARY:Last Day of 2017 Season
DESCRIPTION:We “close” for the winter to the general public because we only have heat in some portions of the our giant building. But we will continue working all winter on building new exhibits\, cataloguing\, writing grants\, and working on our 2018 program. If you need to stop by just ring the door bell. Our winter hours are M-F 9am -5pm. \n
URL:https://www.vtgranitemuseum.org/event/last-day-of-2017-season/
LOCATION:7 Jones Brothers Way\, Barre\, VT\,  05641\, United States
CATEGORIES:VGM events
END:VEVENT
END:VCALENDAR