BEGIN:VCALENDAR
VERSION:2.0
PRODID:-//Vermont Granite Museum - ECPv4.6.14.1//NONSGML v1.0//EN
CALSCALE:GREGORIAN
METHOD:PUBLISH
X-WR-CALNAME:Vermont Granite Museum
X-ORIGINAL-URL:https://www.vtgranitemuseum.org
X-WR-CALDESC:Events for Vermont Granite Museum
BEGIN:VEVENT
DTSTART;TZID=UTC+0:20170511T180000
DTEND;TZID=UTC+0:20170511T200000
DTSTAMP:20260422T210547
CREATED:20170311T174230Z
LAST-MODIFIED:20170311T210341Z
UID:23810-1494525600-1494532800@www.vtgranitemuseum.org
SUMMARY:Membership Meeting
DESCRIPTION:VT Granite Museum members please join the Board of Directors for an evening to learn about our progress\, our 20 17 programming\, and maybe even ways you help and volunteer! \n
URL:https://www.vtgranitemuseum.org/event/membership-meeting/
LOCATION:7 Jones Brothers Way\, Barre\, VT\,  05641\, United States
CATEGORIES:VGM events
ORGANIZER;CN="Vermont%20Granite%20Museum":MAILTO:info@vtgranitemuseum.org
END:VEVENT
END:VCALENDAR