BEGIN:VCALENDAR
VERSION:2.0
PRODID:-//Vermont Granite Museum - ECPv4.6.14.1//NONSGML v1.0//EN
CALSCALE:GREGORIAN
METHOD:PUBLISH
X-WR-CALNAME:Vermont Granite Museum
X-ORIGINAL-URL:https://www.vtgranitemuseum.org
X-WR-CALDESC:Events for Vermont Granite Museum
BEGIN:VEVENT
DTSTART;TZID=UTC+0:20170517T130000
DTEND;TZID=UTC+0:20170517T170000
DTSTAMP:20260422T230543
CREATED:20170312T070943Z
LAST-MODIFIED:20170312T160715Z
UID:23899-1495026000-1495040400@www.vtgranitemuseum.org
SUMMARY:Northfield After School Program
DESCRIPTION:
URL:https://www.vtgranitemuseum.org/event/northfield-after-school-program/
CATEGORIES:Group Tour
END:VEVENT
END:VCALENDAR