BEGIN:VCALENDAR
VERSION:2.0
PRODID:-//Vermont Granite Museum - ECPv4.6.14.1//NONSGML v1.0//EN
CALSCALE:GREGORIAN
METHOD:PUBLISH
X-WR-CALNAME:Vermont Granite Museum
X-ORIGINAL-URL:https://www.vtgranitemuseum.org
X-WR-CALDESC:Events for Vermont Granite Museum
BEGIN:VEVENT
DTSTART;TZID=UTC+0:20170504T100000
DTEND;TZID=UTC+0:20170504T160000
DTSTAMP:20260422T211203
CREATED:20170119T144733Z
LAST-MODIFIED:20170312T160825Z
UID:23801-1493892000-1493913600@www.vtgranitemuseum.org
SUMMARY:Opening Day!
DESCRIPTION:Join us for our seasonal opening \n
URL:https://www.vtgranitemuseum.org/event/opening-day/
LOCATION:7 Jones Brothers Way\, Barre\, VT\,  05641\, United States
CATEGORIES:VGM events
ORGANIZER;CN="Vermont%20Granite%20Museum":MAILTO:info@vtgranitemuseum.org
END:VEVENT
END:VCALENDAR