BEGIN:VCALENDAR
VERSION:2.0
PRODID:-//Vermont Granite Museum - ECPv4.6.14.1//NONSGML v1.0//EN
CALSCALE:GREGORIAN
METHOD:PUBLISH
X-WR-CALNAME:Vermont Granite Museum
X-ORIGINAL-URL:https://www.vtgranitemuseum.org
X-WR-CALDESC:Events for Vermont Granite Museum
BEGIN:VEVENT
DTSTART;TZID=UTC+0:20150808T200000
DTEND;TZID=UTC+0:20150808T200000
DTSTAMP:20260423T050135
CREATED:20150726T004329Z
LAST-MODIFIED:20150729T150607Z
UID:23706-1439064000-1439064000@www.vtgranitemuseum.org
SUMMARY:"Stone" by Kim Bent
DESCRIPTION:The play – “Stone” by Kim Bent.\nThe play is being put on by Lost Nation Theater. Witness actors portray stoneworkers business owners\, community pillars\, recent immigrants\, widows and many others as they tell their stories about work in the quarries\, creating enduring monuments\, tragedies of accidents\, silicosis\, and labor disputes. \nShows will be running for three weeks \nThurs – Sunday starting Thursday July 23 : \nThurs:  7pm \nFridays: 8pm \nSaturdays:  2pm and 8pm \nSundays: 2pm\nAll shows will be at the Granite Museum \n
URL:https://www.vtgranitemuseum.org/event/stone-by-kim-bent-10/
LOCATION:7 Jones Brothers Way\, Barre\, VT\,  05641\, United States
CATEGORIES:VGM events
ORGANIZER;CN="Lost%20Nation%20Theater":MAILTO:info@lostnationtheater.org
END:VEVENT
END:VCALENDAR