BEGIN:VCALENDAR
VERSION:2.0
PRODID:-//Vermont Granite Museum - ECPv4.6.14.1//NONSGML v1.0//EN
CALSCALE:GREGORIAN
METHOD:PUBLISH
X-WR-CALNAME:Vermont Granite Museum
X-ORIGINAL-URL:https://www.vtgranitemuseum.org
X-WR-CALDESC:Events for Vermont Granite Museum
BEGIN:VEVENT
DTSTART;TZID=UTC+0:20170909T100000
DTEND;TZID=UTC+0:20170909T100000
DTSTAMP:20260422T224633
CREATED:20160906T161946Z
LAST-MODIFIED:20170907T182251Z
UID:23778-1504951200-1504951200@www.vtgranitemuseum.org
SUMMARY:Vermont Granite Festival 2017
DESCRIPTION:  \nCelebrate Vermont’s granite heritage with music\, exhibits\, performances\, and demonstrations by local stone workers. \n  \nGeneral Admission:\nFREE to members\n$5 for Adults\n$4 for Seniors\n$3 for Children\n$10 for Families \n \n  \n  \n
URL:https://www.vtgranitemuseum.org/event/vermont-granite-festival/
LOCATION:7 Jones Brothers Way\, Barre\, VT\,  05641\, United States
CATEGORIES:VGM events
ORGANIZER;CN="Vermont%20Granite%20Museum":MAILTO:info@vtgranitemuseum.org
END:VEVENT
END:VCALENDAR