BEGIN:VCALENDAR
VERSION:2.0
PRODID:-//Vermont Granite Museum - ECPv4.6.14.1//NONSGML v1.0//EN
CALSCALE:GREGORIAN
METHOD:PUBLISH
X-WR-CALNAME:Vermont Granite Museum
X-ORIGINAL-URL:https://www.vtgranitemuseum.org
X-WR-CALDESC:Events for Vermont Granite Museum
BEGIN:VEVENT
DTSTART;TZID=UTC+0:20230629T180000
DTEND;TZID=UTC+0:20230629T190000
DTSTAMP:20260422T162739
CREATED:20230619T143037Z
LAST-MODIFIED:20230619T143037Z
UID:24326-1688061600-1688065200@www.vtgranitemuseum.org
SUMMARY:Granite Lecture and Film Series: Aries Peralta Presents the Museum’s Collections
DESCRIPTION:Join Aries Peralta as he talks about the archival work he has done with the museum’s collections. Come take a closer look at the museum’s items and discover how they connect to the museum’s larger mission. This event is free and open to the public. \n
URL:https://www.vtgranitemuseum.org/event/granite-lecture-and-film-series-aries-peralta-presents-the-museums-collections/
LOCATION:7 Jones Brothers Way\, Barre\, VT\,  05641\, United States
ORGANIZER;CN="Vermont%20Granite%20Museum":MAILTO:info@vtgranitemuseum.org
END:VEVENT
END:VCALENDAR