BEGIN:VCALENDAR
VERSION:2.0
PRODID:-//Vermont Granite Museum - ECPv4.6.14.1//NONSGML v1.0//EN
CALSCALE:GREGORIAN
METHOD:PUBLISH
X-WR-CALNAME:Vermont Granite Museum
X-ORIGINAL-URL:https://www.vtgranitemuseum.org
X-WR-CALDESC:Events for Vermont Granite Museum
BEGIN:VEVENT
DTSTART;VALUE=DATE:20230712
DTEND;VALUE=DATE:20230716
DTSTAMP:20260422T150937
CREATED:20230712T152034Z
LAST-MODIFIED:20230712T152034Z
UID:24367-1689120000-1689465599@www.vtgranitemuseum.org
SUMMARY:Museum Closed
DESCRIPTION:
URL:https://www.vtgranitemuseum.org/event/museum-closed-5/
LOCATION:7 Jones Brothers Way\, Barre\, VT\,  05641\, United States
ORGANIZER;CN="Vermont%20Granite%20Museum":MAILTO:info@vtgranitemuseum.org
END:VEVENT
END:VCALENDAR