BEGIN:VCALENDAR
VERSION:2.0
PRODID:-//Vermont Granite Museum - ECPv4.6.14.1//NONSGML v1.0//EN
CALSCALE:GREGORIAN
METHOD:PUBLISH
X-WR-CALNAME:Vermont Granite Museum
X-ORIGINAL-URL:https://www.vtgranitemuseum.org
X-WR-CALDESC:Events for Vermont Granite Museum
BEGIN:VEVENT
DTSTART;TZID=UTC+0:20230803T180000
DTEND;TZID=UTC+0:20230803T190000
DTSTAMP:20260422T150906
CREATED:20230726T171110Z
LAST-MODIFIED:20230726T171110Z
UID:24375-1691085600-1691089200@www.vtgranitemuseum.org
SUMMARY:Granite Lecture and Film Series Presents "The Will to be Remembered" and Rock of Ages TV Commercials
DESCRIPTION:Narrated by Lowell Thomas\, “The Will to be Remembered” is a film produced by the BGA in 1951 showcasing the efforts made in Barre\, Vermont to produce monuments that meet the Barre Guild’s standards. Fast forward to 1958 when Rock of Ages began advertising their products on television. Join us to watch several of the Rock of Ages commercials that aired on the Today Show with Dave Garroway. Questions and discussion to follow. \n
URL:https://www.vtgranitemuseum.org/event/granite-lecture-and-film-series-presents-the-will-to-be-remembered-and-rock-of-ages-tv-commercials/
LOCATION:7 Jones Brothers Way\, Barre\, VT\,  05641\, United States
ORGANIZER;CN="Vermont%20Granite%20Museum":MAILTO:info@vtgranitemuseum.org
END:VEVENT
END:VCALENDAR